BEGIN:VCALENDAR
VERSION:2.0
PRODID:-//https://prolocopanza.it///NONSGML kigkonsult.se iCalcreator 2.10.15//
METHOD:PUBLISH
BEGIN:VEVENT
UID:20260425T151808CEST-5369FzbtL6@https://prolocopanza.it/
DTSTAMP:20260425T131808Z
DESCRIPTION:Animazione per bambini con gonfiabili\, mascotte\, zucchero fil
 ato\, Pop corn e tanti giochi.\nPresente Anna Castagna  https://prolocopan
 za.it/en/eventi-sulla-mappa/event/14881-aspettando-la-magia-del-natale
DTSTART:20241214T140000Z
DTEND:20241214T180000Z
LOCATION:Piazza San Leonardo  (Via Cavaliere Leonardo Impagliazzo\, 65\, 80
 075 Forio NA\, Italia)
SUMMARY:Aspettando la magia del Natale
URL:https://prolocopanza.it/en/eventi-sulla-mappa/event/14881-aspettando-la
 -magia-del-natale
END:VEVENT
END:VCALENDAR
