BEGIN:VCALENDAR
VERSION:2.0
PRODID:-//https://prolocopanza.it///NONSGML kigkonsult.se iCalcreator 2.10.15//
METHOD:PUBLISH
BEGIN:VEVENT
UID:20260423T103815CEST-3119hKEjkZ@https://prolocopanza.it/
DTSTAMP:20260423T083815Z
DESCRIPTION:Percorso guidato con degustazione di vini e prodotti tipici loc
 ali al chiaro di luna settembrina in alcune tra le più belle e suggestive 
 cantine ischitane.\nQuota di partecipazione € 40\,00 a persona https://pro
 locopanza.it/eventi/andar-per-chiese/Eventi/14689-copia-da-cantinando-sott
 o-le-stelle
DTSTART:20230923T164500Z
DTEND:20230923T215900Z
LOCATION:Pro Loco Panza Ischia (Via Cavaliere Leonardo Impagliazzo\, 144\, 
 80075 Forio NA\, Italia)
SUMMARY:Copia da Cantinando sotto le stelle
URL:https://prolocopanza.it/eventi/andar-per-chiese/Eventi/14689-copia-da-c
 antinando-sotto-le-stelle
END:VEVENT
END:VCALENDAR
