BEGIN:VCALENDAR
VERSION:2.0
PRODID:-//https://prolocopanza.it///NONSGML kigkonsult.se iCalcreator 2.10.15//
METHOD:PUBLISH
BEGIN:VEVENT
UID:20260421T113132CEST-36571nl601@https://prolocopanza.it/
DTSTAMP:20260421T093132Z
DESCRIPTION:L’appuntamento più glam della manifestazione che vedrà ai forne
 lli grandi rappresentanti della cucina d’autore. In un imperdibile percors
 o di tentazioni\, in quattro flight che dureranno mezz’ora ognuno.\nPREZZO
  €150\,00 a persona\nAlbergo della Regina IsabellaPiazza Santa Restituta\,
  Lacco AmenoTel.: 081 994322 https://prolocopanza.it/luoghi-sede-degli-eve
 nti/Eventi/14314-ischia-safari-gala-dinner-2019
DTSTART:20190915T183000Z
DTEND:20190915T215900Z
LOCATION:Albergo della Regina Isabella (Corso Angelo Rizzoli\, 210\, 80076 
 Lacco Ameno NA\, Italia)
SUMMARY:Ischia Safari - Gala Dinner 2019
URL:https://prolocopanza.it/luoghi-sede-degli-eventi/Eventi/14314-ischia-sa
 fari-gala-dinner-2019
END:VEVENT
END:VCALENDAR
