BEGIN:VCALENDAR
VERSION:2.0
PRODID:-//https://prolocopanza.it///NONSGML kigkonsult.se iCalcreator 2.10.15//
METHOD:PUBLISH
BEGIN:VEVENT
UID:20260421T101021CEST-1031Sva2Rn@https://prolocopanza.it/
DTSTAMP:20260421T081021Z
DESCRIPTION:FRASSITELLI SCARDECCHIA – FATTORIA GRECA- PIETRATORCIAPOMERIGGI
 O DALLE ORE 15.00\n&nbsp\;\n\nPartenza da Piazza S.Leonardo\, PanzaPrenota
 zione obbligatoria per tutti i percorsi costo singolo percorso € 20\,00Inc
 luso: navetta - visita alle cantine - guida - degustazione\nI percorsi pos
 sono subire variazioni e modifiche in base alle prenotazioni e alla dispon
 ibilità delle cantine.\n https://prolocopanza.it/luoghi-sede-degli-eventi/
 Eventi/14333-copia-da-percorsi-andar-per-cantine-2018-frassitielli-pomerig
 gio
DTSTART:20180921T130000Z
DTEND:20180921T160000Z
LOCATION:Pro Loco Panza Ischia (Via Cavaliere Leonardo Impagliazzo\, 144\, 
 80075 Forio NA\, Italia)
SUMMARY:Copia da Percorsi Andar per cantine 2018 - Frassitielli (Pomeriggio
 )
URL:https://prolocopanza.it/luoghi-sede-degli-eventi/Eventi/14333-copia-da-
 percorsi-andar-per-cantine-2018-frassitielli-pomeriggio
END:VEVENT
END:VCALENDAR
