BEGIN:VCALENDAR
VERSION:2.0
PRODID:-//https://prolocopanza.it///NONSGML kigkonsult.se iCalcreator 2.10.15//
METHOD:PUBLISH
BEGIN:VEVENT
UID:20260421T101021CEST-3869fpsXUi@https://prolocopanza.it/
DTSTAMP:20260421T081021Z
DESCRIPTION:Percorso guidato con degustazione di vini e prodotti tipici loc
 ali al chiaro di luna settembrina in alcune tra le più belle e suggestive 
 cantine ischitane.\nCOMPLETO https://prolocopanza.it/luoghi-sede-degli-eve
 nti/Eventi/14562-cantinando-sotto-le-stelle
DTSTART:20220927T164500Z
DTEND:20220927T215900Z
LOCATION:Pro Loco Panza Ischia (Via Cavaliere Leonardo Impagliazzo\, 144\, 
 80075 Forio NA\, Italia)
SUMMARY:Cantinando sotto le stelle
URL:https://prolocopanza.it/luoghi-sede-degli-eventi/Eventi/14562-cantinand
 o-sotto-le-stelle
END:VEVENT
END:VCALENDAR
